BEGIN:VCALENDAR
PRODID:aging.georgia.gov
VERSION:2.0
CALSCALE:GREGORIAN
BEGIN:VEVENT
UID:64b50ff2a65ebc55f37e3240d88fd1ae
DTSTAMP:20260424T183205Z
SUMMARY:Middle Georgia Regional Commission - SPoA Community Conversation
URL:https://aging.georgia.gov/events/2026-05-05/middle-georgia-regional-com
 mission-spoa-community-conversation
DTSTART;VALUE=DATE:20260505
DTEND;VALUE=DATE:20260506
LOCATION:3661 Eisenhower Parkway Suite MB102  Macon\, GA 31206 US
X-LIC-LOCATION:America/New_York
X-WR-TIMEZONE:America/New_York
END:VEVENT
BEGIN:VTIMEZONE
TZID:America/New_York
END:VTIMEZONE
END:VCALENDAR
