BEGIN:VCALENDAR
PRODID:aging.georgia.gov
VERSION:2.0
CALSCALE:GREGORIAN
BEGIN:VEVENT
UID:cd22d42aab5f906eb7343e97a69b9aca
DTSTAMP:20260424T182205Z
SUMMARY:Central Savannah River Area AAA - SPoA Community Conversation
URL:https://aging.georgia.gov/events/2026-04-29/central-savannah-river-area
 -aaa-spoa-community-conversation
DTSTART;VALUE=DATE:20260429
DTEND;VALUE=DATE:20260430
LOCATION:3626 Walton Way Extension\, Suite 300  Augusta\, GA 30909 US
X-LIC-LOCATION:America/New_York
X-WR-TIMEZONE:America/New_York
END:VEVENT
BEGIN:VTIMEZONE
TZID:America/New_York
END:VTIMEZONE
END:VCALENDAR
