BEGIN:VCALENDAR
PRODID:aging.georgia.gov
VERSION:2.0
CALSCALE:GREGORIAN
BEGIN:VEVENT
UID:c3be908f92f7e5d20927f994ca196959
DTSTAMP:20260424T183205Z
SUMMARY:River Valley AAA - SPoA Community Conversation 
URL:https://aging.georgia.gov/events/2026-05-12/river-valley-aaa-spoa-commu
 nity-conversation
DTSTART;VALUE=DATE:20260512
DTEND;VALUE=DATE:20260513
LOCATION:710 Front Ave.\, Suite A  Columbus\, GA 31901 US
X-LIC-LOCATION:America/New_York
X-WR-TIMEZONE:America/New_York
END:VEVENT
BEGIN:VTIMEZONE
TZID:America/New_York
END:VTIMEZONE
END:VCALENDAR
