BEGIN:VCALENDAR
PRODID:aging.georgia.gov
VERSION:2.0
CALSCALE:GREGORIAN
BEGIN:VEVENT
UID:cd88e0663de8371595566abd55b49e61
DTSTAMP:20260424T183229Z
SUMMARY:Sowega Council on Aging - SPoA Community Conversation
URL:https://aging.georgia.gov/events/2026-05-12/sowega-council-aging-spoa-c
 ommunity-conversation
DTSTART;VALUE=DATE:20260512
DTEND;VALUE=DATE:20260513
LOCATION:112 North Front St.  Albany\, GA 31701 US
X-LIC-LOCATION:America/New_York
X-WR-TIMEZONE:America/New_York
END:VEVENT
BEGIN:VTIMEZONE
TZID:America/New_York
END:VTIMEZONE
END:VCALENDAR
