BEGIN:VCALENDAR
PRODID:aging.georgia.gov
VERSION:2.0
CALSCALE:GREGORIAN
BEGIN:VEVENT
UID:3aeb42bd1b8bb2b50ecf7181df031125
DTSTAMP:20260424T183228Z
SUMMARY:Southern Georgia AAA - SPoA Community Conversation
URL:https://aging.georgia.gov/events/2026-05-13/southern-georgia-aaa-spoa-c
 ommunity-conversation
DTSTART;VALUE=DATE:20260513
DTEND;VALUE=DATE:20260514
LOCATION:1725 South Georgia Pkwy.\, West  Waycross\, GA 31503 US
X-LIC-LOCATION:America/New_York
X-WR-TIMEZONE:America/New_York
END:VEVENT
BEGIN:VTIMEZONE
TZID:America/New_York
END:VTIMEZONE
END:VCALENDAR
