BEGIN:VCALENDAR
PRODID:aging.georgia.gov
VERSION:2.0
CALSCALE:GREGORIAN
BEGIN:VEVENT
UID:3810c3f687c8841a0db9e60c79b10014
DTSTAMP:20260424T194936Z
SUMMARY:Northeast Georgia AAA - SPoA Community Conversation
URL:https://aging.georgia.gov/events/2026-05-13/northeast-georgia-aaa-spoa-
 community-conversation
DTSTART;VALUE=DATE:20260513
DTEND;VALUE=DATE:20260514
LOCATION:3700 Atlanta Highway  Athens\, GA 30606 US
X-LIC-LOCATION:America/New_York
X-WR-TIMEZONE:America/New_York
END:VEVENT
BEGIN:VTIMEZONE
TZID:America/New_York
END:VTIMEZONE
END:VCALENDAR
