BEGIN:VCALENDAR
PRODID:aging.georgia.gov
VERSION:2.0
CALSCALE:GREGORIAN
BEGIN:VEVENT
UID:7ab56ddf723a2cfb9d55d79be8ca0b12
DTSTAMP:20260424T183228Z
SUMMARY:Atlanta Regional Commission - SPoA Community Conversation
URL:https://aging.georgia.gov/events/2026-06-23/atlanta-regional-commission
 -spoa-community-conversation
DTSTART;VALUE=DATE:20260623
DTEND;VALUE=DATE:20260624
LOCATION:166 Edwards St. NW  Atlanta\, GA 30314 US
X-LIC-LOCATION:America/New_York
X-WR-TIMEZONE:America/New_York
END:VEVENT
BEGIN:VTIMEZONE
TZID:America/New_York
END:VTIMEZONE
END:VCALENDAR
