BEGIN:VCALENDAR
PRODID:aging.georgia.gov
VERSION:2.0
CALSCALE:GREGORIAN
BEGIN:VEVENT
UID:d1ef7b6b6c5f7c087d2f7cd22666c880
DTSTAMP:20260424T181238Z
SUMMARY:Three Rivers AAA - SPoA Community Conversation
URL:https://aging.georgia.gov/events/2026-06-24/three-rivers-aaa-spoa-commu
 nity-conversation
DTSTART;VALUE=DATE:20260624
DTEND;VALUE=DATE:20260625
LOCATION:2335 Highway 29 N.  Newnan\, GA 30265 US
X-LIC-LOCATION:America/New_York
X-WR-TIMEZONE:America/New_York
END:VEVENT
BEGIN:VTIMEZONE
TZID:America/New_York
END:VTIMEZONE
END:VCALENDAR
